BEGIN:VCALENDAR
VERSION:2.0
PRODID:-//wp-events-plugin.com//7.2.3//EN
BEGIN:VEVENT
UID:1@bentonvillecivility.com
DTSTART:20251211T000000Z
DTEND:20251219T000000Z
DTSTAMP:20251212T120634Z
URL:https://bentonvillecivility.com/events/test/
SUMMARY:test
DESCRIPTION:
END:VEVENT
END:VCALENDAR